BEGIN:VCALENDAR
VERSION:2.0
PRODID:-//The Yoga Room Eskişehir - ECPv6.15.20//NONSGML v1.0//EN
CALSCALE:GREGORIAN
METHOD:PUBLISH
X-ORIGINAL-URL:https://theyogaroom.com.tr
X-WR-CALDESC:The Yoga Room Eskişehir için etkinlikler
REFRESH-INTERVAL;VALUE=DURATION:PT1H
X-Robots-Tag:noindex
X-PUBLISHED-TTL:PT1H
BEGIN:VTIMEZONE
TZID:Europe/Istanbul
BEGIN:STANDARD
TZOFFSETFROM:+0300
TZOFFSETTO:+0300
TZNAME:+03
DTSTART:20240101T000000
END:STANDARD
END:VTIMEZONE
BEGIN:VEVENT
DTSTART;TZID=Europe/Istanbul:20251101T100000
DTEND;TZID=Europe/Istanbul:20260322T200000
DTSTAMP:20260420T170029
CREATED:20250805T144449Z
LAST-MODIFIED:20251216T150503Z
UID:1295-1761991200-1774209600@theyogaroom.com.tr
SUMMARY:320 Saatlik Yogada Uzmanlaşma Programı
DESCRIPTION:320 Saatlik Uzmanlaşma Programı \nYoga eğitimi\, yalnızca asanaları öğrenmekle sınırlı değildir; köklerine inmek\, derinlik kazanmak ve gerçekten yetkin bir eğitmen olabilmek için hem felsefi hem de bilimsel temelleri anlamak gerekir. The Yoga Room olarak sunduğumuz 320 saatlik uzmanlaşma programı\, hem yoganın köklü felsefesine hem de genellikle göz ardı edilen biyomekanik bilgisinin detaylarına inerek temel ve ileri seviye eğitimi bir araya getiren kapsamlı bir yolculuk sunar. \nBu program iki derin modülden oluşur: \nYogaya Dair Her Şey – Felsefe Modülü\nYoga\, sadece bedensel bir pratik değil; aynı zamanda zihinsel\, duygusal ve ruhsal bir dönüşüm yoludur. Bu modülde\, yoganın tarihine\, felsefi metinlerine ve yaşam pratiğine etkilerine derinlemesine dalıyoruz. Yama ve niyama prensiplerinden\, Patanjali’nin Yoga Sutraları’na\, Vedanta ve Budist geleneklere kadar\, sadece teorik değil\, pratiğe entegre edilebilecek bir bakış açısıyla yoganın özüne ulaşıyoruz. \nYoganın Biyomekaniği – Anatomi Modülü\nYoga pratiğinin güvenli ve sürdürülebilir olması için anatomik bilgiye sahip olmak kritik öneme sahiptir. Çoğu eğitimde yüzeysel geçilen veya göz ardı edilen bu konu\, programımızın temel taşlarından biridir. Kas-iskelet sisteminden\, hareket mekaniğine\, postür analizi ve asana çözümlemelerine kadar fizyoloji\, sekanslama ve anatomi bilgisiyle donanmış bir eğitmen olmanız için kapsamlı bir içerik sunuyoruz. \nBu program\, yoga eğitimini bir adım öteye taşımak isteyenler için tasarlandı. Sadece bir sertifika almak değil\, gerçekten yetkin bir eğitmen olmak isteyenler için derinlemesine bir uzmanlaşma süreci sunuyoruz. \nEğer siz de yogayı tüm yönleriyle anlamak\, pratiğinizi derinleştirmek ve bilgiye dayalı bir eğitmenlik yaklaşımı benimsemek istiyorsanız\, bu program tam size göre! \nEğitim Müfredatı: \n1.Modül: Yogaya Dair Her Şey \nYoga Nedir?\nYoga tarihi\nYoga türleri ve önderleri\nYoga Felsefesine Bütüncül Bir Bakış\nRaja Yoganın Basamakları\nGunalar\nYogik beslenme\nKoshalar\nSüptil Bedenin (Enerji Bedeni) Anatomisi\nMantralar ve Yantralar\nYoganın Kadim Kaynakları \nUpanişadlar\, Hatha Yoga Pradipika\, Patanjali’nin Yoga Sutraları\, Bhagavat Gita \nÇakralar ve Yogadaki Yerleri\nMudralar ve Bandhalar\nPranayamaya Teknikleri\nMeditasyonun Temelleri\nAsanalar (Yoga Pozları)\nAsana Çözümlemeleri\n2.Modül: Yoganın Biyomekaniği (Anatomi & Fizyoloji) \nAnatomiye Giriş\nFonksiyonel Anatomi\nBeden Tipleri\nİskelet Sistemi\nKas Sistemi\nEklemler\nLigamentler\nEklem Dışı Ek Yapılar\nKasılma Türleri\nAnatomik Rahatsızlıklar ve Sakatlıklarda Yoga\nSakatlıkların İyileşme Süreçleri\nHareket Anatomisi\nFasyaya Dair Her Şey\nSinir Sistemi\nEndokrin Sistemi\nDolaşım Sistemi\nSolunum Sistemi\nSindirim Sistemi\nBoşaltım Sistemi\nSistemlerimizin Yoga Pratiğiyle Bağlantısı \nEğitim Takvimi: \n320 Saatlik Yogada Uzmanlaşma Programı her yıl bir kez açılan bir programdır ve sonbahar döneminde başlayıp\, takip eden yılın ilkbaharında tamamlanır. \n  \nÜcretlendirme: \nTaksitli fiyat: 78.000₺ + KDV\nKayıt ile 20.000₺\nArdından 11.600₺ x 5 taksit şeklinde\nPeşin fiyat:\n70.000₺ + KDV\nErken ödeme indirimi 15 Ağustos’a kadar kayıt olan ilk 10 kişi için: 65.000₺ + KDV\nEğitim ücretine inziva dahil değildir\, inziva detayları ülke koşulları gereği inziva tarihi\nyaklaştığında netleşecektir.
URL:https://theyogaroom.com.tr/etkinlik/320-saatlik-yogada-uzmanlasma-programi/
LOCATION:The Yoga Room\, Eskişehir\, Turkey
ATTACH;FMTTYPE=image/png:https://theyogaroom.com.tr/wp-content/uploads/2025/08/WEB-1-kopya.png
END:VEVENT
END:VCALENDAR